BEGIN:VCALENDAR
VERSION:2.0
PRODID:https://github.com/derhansen/sf_event_mgt
METHOD:PUBLISH
BEGIN:VEVENT
UID:1106-58@www.leukaemie-hilfe.de
CLASS: PUBLIC
SUMMARY:Virtuell: Zielgerichtete Therapie - Auch etwas für mich?
DESCRIPTION:Das Patientenforum des Patientenhauses am Comprehensive Cancer 
 Center München (CCC München) bietet im Rahmen der Online-Veranstaltung "
 Patientenform" spannende Vorträge zu verschiedenen onkologischen Themen f
 ür Krebspatienten und ihre Angehörige. Im Dezember 2026 wird das Thema "
 Zielgerichtete Therapie - Auch etwas für mich?" adressiert.\n\nDie Regist
 rierung zum Patientenforum erfolgt über den Link https://kurzlinks.de/Pat
 ientenforum.  
LOCATION:Virtuelle Veranstaltung
DTSTAMP:20251204T084559Z
DTSTART:20261208T153000Z
DTEND:20261208T170000Z
END:VEVENT
END:VCALENDAR