BEGIN:VCALENDAR
VERSION:2.0
PRODID:https://github.com/derhansen/sf_event_mgt
METHOD:PUBLISH
BEGIN:VEVENT
UID:1108-58@www.leukaemie-hilfe.de
CLASS: PUBLIC
SUMMARY:Virtuell: Selbsthilfegruppen: Erfahrungen und Austausch
DESCRIPTION:Das Patientenforum des Patientenhauses am Comprehensive Cancer 
 Center München (CCC München) bietet im Rahmen der Online-Veranstaltung "
 Patientenfragestunde" für Krebspatienten und ihre Angehörig kurze Einfü
 hrungen zu verschiedenen onkologischen Themen mit anschließender Möglich
 keit der Befragung der Referenten. Im März 2026 wird das Thema "Selbsthil
 fegruppen: Erfahrungen und Austausch" adressiert.\n\nDie Registrierung zur
  Patientenfragestunde erfolgt über den Link https://kurzlinks.de/Patiente
 nfragestunde. 
LOCATION:Virtuelle Veranstaltung
DTSTAMP:20251204T085515Z
DTSTART:20260326T150000Z
DTEND:20260326T160000Z
END:VEVENT
END:VCALENDAR