BEGIN:VCALENDAR
VERSION:2.0
PRODID:https://github.com/derhansen/sf_event_mgt
METHOD:PUBLISH
BEGIN:VEVENT
UID:1165-58@www.leukaemie-hilfe.de
CLASS: PUBLIC
SUMMARY:Virtuell: Schwerbehinderung bei Krebs - Wir bringen Licht ins Dunkel
DESCRIPTION:Krebserkrankten, die einen Schwerbehindertenausweis haben, steh
 en sogenannte Nachteilsausgleiche zu. Dabei handelt es sich um einen gewis
 sen Ausgleich dafür, dass Krebsbetroffene in ihrer körperlichen, geistig
 en oder seelischen Gesundheit beeinträchtigt sind. Welche Vergünstigunge
 n das sind, hängt vom Grad der Behinderung sowie weiterer Merkzeichen ab.
  Unter welchen Voraussetzungen jemand einen Schwerbehindertenausweis bekom
 mt, wie lange und mit welchem Grad der Behinderung, ist detailliert gerege
 lt. Dennoch bleiben bei vielen Betroffenen Fragen offen: Wie wirken sich m
 ehrere Krankheiten auf den Status aus? Wie funktionieren Erst- und Folgean
 tragstellung und was ist mit Kündigungsschutz und zusätzlichem Urlaub? U
 nd: Gilt Fatigue als Schwerbehinderung? Mit diesen Fragen befasst sich de
 r Vortrag des Krebsinformationsdienstes (KID) des Deutschen Krebsforschung
 szentrums (DKFZ) \n\nWeitere Informationen sowie die Möglichkeit zur Anm
 eldung finden sich auf der Internetseite der Online-Veranstaltung des KID.
LOCATION:Virtuelle Veranstaltung
DTSTAMP:20260119T130702Z
DTSTART:20260409T140000Z
DTEND:20260409T160000Z
END:VEVENT
END:VCALENDAR